BEGIN:VCALENDAR
METHOD:PUBLISH
PRODID:-//doubleknot.com//CalenderEvent MIMEDIR//EN
VERSION:2.0
BEGIN:VEVENT
UID:3117642-20251012T133000Z-20251012T143000Z@doubleknot.com
CREATED:20250829T144752Z
LAST-MODIFIED:20250829T194859Z
DTSTAMP:20260419T181816Z
DTSTART:20251012T133000Z
DTEND:20251012T143000Z
LOCATION:11201 Garrison Forest Road, Owings Mills, MD 21117, US
CATEGORIES:Adults, Families
DESCRIPTION: \n Introduction to Qigong &amp; Qigong Walking with Mary Pinkard \n  \n  \n  \n  \n Join long-time Qigong certified practitioner, instructor and friend to Irvine, Mary Pinkard for an all-skill-levels-welcome Qigong session followed by an outdoor walk, using Qigong practices, on an Irvine forested path. Participants will use Qigong mind-body techniques to emphasize deep breathing, open energy pathways, and foster a profound mind-body connection in order to access peace and wellness within.  For adults who can walk and move for up to 60 minutes. This event will be held rain or shine.  \n  \n  \n  \n  \n For Adults ages 18 and up.  \n  \n  \n Instructor: Mary Pinkard, NQA Level II Instructor  \n  \n  \n  \n  \n  \n   \n  \n  \n Date: Sunday, October 12th \n  \n  \n Time: 9:30-10:30 AM  \n  \n  \n Ages: Adult \n  \n  \n Cost: $25 per participant  \n 
SUMMARY:2025 Fall - Introduction to Qigong & Qigong Walking with Mary Pinkard - 10/12
PRIORITY:5
BEGIN:VALARM
TRIGGER:PT15M
ACTION:DISPLAY
DESCRIPTION:Reminder
PRIORITY:5
END:VALARM
END:VEVENT
END:VCALENDAR
